BEGIN:VCALENDAR
VERSION:2.0
PRODID:-//Kilcoona National School - ECPv4.6.3//NONSGML v1.0//EN
CALSCALE:GREGORIAN
METHOD:PUBLISH
X-WR-CALNAME:Kilcoona National School
X-ORIGINAL-URL:https://kilcoonans.ie
X-WR-CALDESC:Events for Kilcoona National School
BEGIN:VEVENT
DTSTART;TZID=UTC+0:20171128T100000
DTEND;TZID=UTC+0:20171128T120000
DTSTAMP:20260420T195806
CREATED:20171109T215246Z
LAST-MODIFIED:20171109T215643Z
UID:14113-1511863200-1511870400@kilcoonans.ie
SUMMARY:Peace Proms Practice
DESCRIPTION:Leisureland Galway \n
URL:https://kilcoonans.ie/event/peace-proms-practice/
END:VEVENT
END:VCALENDAR