BEGIN:VCALENDAR
VERSION:2.0
PRODID:-//Kilcoona National School - ECPv4.6.3//NONSGML v1.0//EN
CALSCALE:GREGORIAN
METHOD:PUBLISH
X-WR-CALNAME:Kilcoona National School
X-ORIGINAL-URL:https://kilcoonans.ie
X-WR-CALDESC:Events for Kilcoona National School
BEGIN:VEVENT
DTSTART;VALUE=DATE:20160801
DTEND;VALUE=DATE:20160804
DTSTAMP:20260421T012837
CREATED:20160607T065831Z
LAST-MODIFIED:20160607T065831Z
UID:10792-1470009600-1470268799@kilcoonans.ie
SUMMARY:Science Trip to Australia
DESCRIPTION:Cras dapibus ullamcorper dictum. Vivamus nec erat placerat felis scelerisque porttitor in ac turpis. In nec imperdiet turpis. Suspendisse quis orci ut orci pulvinar eleifend. Nulla eu mattis ipsum. Integer eget sagittis nulla. Praesent consectetur lacus et maximus eleifend. Integer non lacus dui. Mauris tortor diam\, laoreet quis commodo vitae\, sodales vel augue.| Sed rutrum\, libero non pretium tristique\, arcu mi sollicitudin ex\, quis venenatis orci tellus vel dolor. Donec gravida\, dolor ut auctor facilisis\, enim dolor pellentesque lectus\, nec vehicula nibh risus ac leo. Mauris volutpat aliquam tellus nec rhoncus. Aliquam et nibh pulvinar\, sodales nibh et\, pretium urna. Vivamus quam augue\, maximus in consequat imperdiet\, iaculis non nibh. Aliquam erat volutpat. Curabitur venenatis massa sed lacus tristique\, non auctor nisl sodales. Sed ultricies lacus ut libero faucibus fringilla. Ut nisi tellus\, posuere vel mattis nec\, convallis a metus. Nullam elementum molestie felis nec lobortis. Cras at justo eu elit semper tempor sed quis orci. In risus magna\, malesuada vel elementum ut\, finibus et nunc. \n  \n
URL:https://kilcoonans.ie/event/science-trip-to-australia/
LOCATION:Brooklyn\, NY 10036\, New York\, AK\, United States
CATEGORIES:Trip
ATTACH;FMTTYPE=image/jpeg:https://kilcoonans.ie/wp-content/uploads/2016/09/04.jpg
ORGANIZER;CN="Nick%20Sims":MAILTO:sims@example.com
END:VEVENT
END:VCALENDAR