BEGIN:VCALENDAR
VERSION:2.0
PRODID:-//Kilcoona National School - ECPv4.6.3//NONSGML v1.0//EN
CALSCALE:GREGORIAN
METHOD:PUBLISH
X-WR-CALNAME:Kilcoona National School
X-ORIGINAL-URL:https://kilcoonans.ie
X-WR-CALDESC:Events for Kilcoona National School
BEGIN:VEVENT
DTSTART;VALUE=DATE:20171113
DTEND;VALUE=DATE:20171120
DTSTAMP:20260420T180947
CREATED:20171115T221033Z
LAST-MODIFIED:20171115T221034Z
UID:14127-1510531200-1511135999@kilcoonans.ie
SUMMARY:Science Week
DESCRIPTION:
URL:https://kilcoonans.ie/event/science-week/
END:VEVENT
END:VCALENDAR